BEGIN:VCALENDAR
VERSION:2.0
PRODID:-//Forsa OK - ECPv6.15.20//NONSGML v1.0//EN
CALSCALE:GREGORIAN
METHOD:PUBLISH
X-ORIGINAL-URL:https://forsaok.se
X-WR-CALDESC:Händelser för Forsa OK
REFRESH-INTERVAL;VALUE=DURATION:PT1H
X-Robots-Tag:noindex
X-PUBLISHED-TTL:PT1H
BEGIN:VTIMEZONE
TZID:Europe/Stockholm
BEGIN:DAYLIGHT
TZOFFSETFROM:+0100
TZOFFSETTO:+0200
TZNAME:CEST
DTSTART:20240331T010000
END:DAYLIGHT
BEGIN:STANDARD
TZOFFSETFROM:+0200
TZOFFSETTO:+0100
TZNAME:CET
DTSTART:20241027T010000
END:STANDARD
BEGIN:DAYLIGHT
TZOFFSETFROM:+0100
TZOFFSETTO:+0200
TZNAME:CEST
DTSTART:20250330T010000
END:DAYLIGHT
BEGIN:STANDARD
TZOFFSETFROM:+0200
TZOFFSETTO:+0100
TZNAME:CET
DTSTART:20251026T010000
END:STANDARD
BEGIN:DAYLIGHT
TZOFFSETFROM:+0100
TZOFFSETTO:+0200
TZNAME:CEST
DTSTART:20260329T010000
END:DAYLIGHT
BEGIN:STANDARD
TZOFFSETFROM:+0200
TZOFFSETTO:+0100
TZNAME:CET
DTSTART:20261025T010000
END:STANDARD
END:VTIMEZONE
BEGIN:VEVENT
DTSTART;TZID=Europe/Stockholm:20251002T173000
DTEND;TZID=Europe/Stockholm:20251002T183000
DTSTAMP:20260419T192550
CREATED:20250822T185414Z
LAST-MODIFIED:20250822T185414Z
UID:10001241-1759426200-1759429800@forsaok.se
SUMMARY:Skogsskoj #7
DESCRIPTION:
URL:https://forsaok.se/event/skogsskoj-7/
LOCATION:Klubbhuset Backa\, Fyhrvägen 6\, Sörforsa
CATEGORIES:Träningar,Ungdom
GEO:61.717637;16.973994
X-APPLE-STRUCTURED-LOCATION;VALUE=URI;X-ADDRESS=Klubbhuset Backa Fyhrvägen 6 Sörforsa;X-APPLE-RADIUS=500;X-TITLE=Fyhrvägen 6:geo:16.973994,61.717637
END:VEVENT
BEGIN:VEVENT
DTSTART;TZID=Europe/Stockholm:20251002T180000
DTEND;TZID=Europe/Stockholm:20251002T190000
DTSTAMP:20260419T192550
CREATED:20250822T185500Z
LAST-MODIFIED:20250929T172811Z
UID:10001242-1759428000-1759431600@forsaok.se
SUMMARY:Ungdomsträning #7
DESCRIPTION:Hudiksvalls OK arrangerar. Samling vid slingan vid Bromangymnasiet. Ta med pannlampa och SI-pinne om ni har.
URL:https://forsaok.se/event/ungdomstraning-7-4/
LOCATION:Slingan vid Bromangymnastiet\, Hudiksvall
CATEGORIES:Träningar,Ungdom
GEO:61.743576;17.102863
END:VEVENT
END:VCALENDAR