BEGIN:VCALENDAR
VERSION:2.0
PRODID:-//Forsa OK - ECPv6.15.20//NONSGML v1.0//EN
CALSCALE:GREGORIAN
METHOD:PUBLISH
X-ORIGINAL-URL:https://forsaok.se
X-WR-CALDESC:Händelser för Forsa OK
REFRESH-INTERVAL;VALUE=DURATION:PT1H
X-Robots-Tag:noindex
X-PUBLISHED-TTL:PT1H
BEGIN:VTIMEZONE
TZID:Europe/Stockholm
BEGIN:DAYLIGHT
TZOFFSETFROM:+0100
TZOFFSETTO:+0200
TZNAME:CEST
DTSTART:20240331T010000
END:DAYLIGHT
BEGIN:STANDARD
TZOFFSETFROM:+0200
TZOFFSETTO:+0100
TZNAME:CET
DTSTART:20241027T010000
END:STANDARD
BEGIN:DAYLIGHT
TZOFFSETFROM:+0100
TZOFFSETTO:+0200
TZNAME:CEST
DTSTART:20250330T010000
END:DAYLIGHT
BEGIN:STANDARD
TZOFFSETFROM:+0200
TZOFFSETTO:+0100
TZNAME:CET
DTSTART:20251026T010000
END:STANDARD
BEGIN:DAYLIGHT
TZOFFSETFROM:+0100
TZOFFSETTO:+0200
TZNAME:CEST
DTSTART:20260329T010000
END:DAYLIGHT
BEGIN:STANDARD
TZOFFSETFROM:+0200
TZOFFSETTO:+0100
TZNAME:CET
DTSTART:20261025T010000
END:STANDARD
END:VTIMEZONE
BEGIN:VEVENT
DTSTART;TZID=Europe/Stockholm:20250925T173000
DTEND;TZID=Europe/Stockholm:20250925T183000
DTSTAMP:20260419T174831
CREATED:20250822T184044Z
LAST-MODIFIED:20250822T184044Z
UID:10001235-1758821400-1758825000@forsaok.se
SUMMARY:Skogsskoj #6
DESCRIPTION:
URL:https://forsaok.se/event/skogsskoj-6-2/
LOCATION:Rimbergsmon\, vändplanen\, Näsviken
CATEGORIES:Träningar,Ungdom
GEO:61.752384;16.801566
END:VEVENT
BEGIN:VEVENT
DTSTART;TZID=Europe/Stockholm:20250925T180000
DTEND;TZID=Europe/Stockholm:20250925T190000
DTSTAMP:20260419T174831
CREATED:20250822T184205Z
LAST-MODIFIED:20250822T185652Z
UID:10001236-1758823200-1758826800@forsaok.se
SUMMARY:Ungdomsträning #6
DESCRIPTION:Ansvarig: Amy
URL:https://forsaok.se/event/ungdomstraning-6-4/
LOCATION:Rimbergsmon\, vändplanen\, Näsviken
CATEGORIES:Träningar,Ungdom
GEO:61.752384;16.801566
END:VEVENT
END:VCALENDAR