BEGIN:VCALENDAR
VERSION:2.0
PRODID:-//Forsa OK - ECPv6.15.20//NONSGML v1.0//EN
CALSCALE:GREGORIAN
METHOD:PUBLISH
X-ORIGINAL-URL:https://forsaok.se
X-WR-CALDESC:Händelser för Forsa OK
REFRESH-INTERVAL;VALUE=DURATION:PT1H
X-Robots-Tag:noindex
X-PUBLISHED-TTL:PT1H
BEGIN:VTIMEZONE
TZID:Europe/Stockholm
BEGIN:DAYLIGHT
TZOFFSETFROM:+0100
TZOFFSETTO:+0200
TZNAME:CEST
DTSTART:20240331T010000
END:DAYLIGHT
BEGIN:STANDARD
TZOFFSETFROM:+0200
TZOFFSETTO:+0100
TZNAME:CET
DTSTART:20241027T010000
END:STANDARD
BEGIN:DAYLIGHT
TZOFFSETFROM:+0100
TZOFFSETTO:+0200
TZNAME:CEST
DTSTART:20250330T010000
END:DAYLIGHT
BEGIN:STANDARD
TZOFFSETFROM:+0200
TZOFFSETTO:+0100
TZNAME:CET
DTSTART:20251026T010000
END:STANDARD
BEGIN:DAYLIGHT
TZOFFSETFROM:+0100
TZOFFSETTO:+0200
TZNAME:CEST
DTSTART:20260329T010000
END:DAYLIGHT
BEGIN:STANDARD
TZOFFSETFROM:+0200
TZOFFSETTO:+0100
TZNAME:CET
DTSTART:20261025T010000
END:STANDARD
END:VTIMEZONE
BEGIN:VEVENT
DTSTART;TZID=Europe/Stockholm:20250918T173000
DTEND;TZID=Europe/Stockholm:20250918T183000
DTSTAMP:20260419T192632
CREATED:20250822T185228Z
LAST-MODIFIED:20250822T185228Z
UID:10001239-1758216600-1758220200@forsaok.se
SUMMARY:Skogsskoj #5
DESCRIPTION:
URL:https://forsaok.se/event/skogsskoj-5-2/
LOCATION:Vändplanen innanför Ystegårn\, Hillsta
CATEGORIES:Träningar,Ungdom
GEO:61.73629;16.87042
END:VEVENT
BEGIN:VEVENT
DTSTART;TZID=Europe/Stockholm:20250918T180000
DTEND;TZID=Europe/Stockholm:20250918T190000
DTSTAMP:20260419T192632
CREATED:20250822T185343Z
LAST-MODIFIED:20250914T190044Z
UID:10001240-1758218400-1758222000@forsaok.se
SUMMARY:Ungdomsträning #5
DESCRIPTION:Hudiksvalls OK arrangerar på kartan på Öster i Hudiksvall\, samling på parkeringen mitt emot campingen. Tema kompass så ta med ni som har egen.
URL:https://forsaok.se/event/ungdomstraning-5-4/
LOCATION:Parkeringen vid sexan på Öster\, mitt emot campingen
CATEGORIES:Träningar,Ungdom
GEO:61.7211819;17.1766107
END:VEVENT
END:VCALENDAR