BEGIN:VCALENDAR
VERSION:2.0
PRODID:-//Forsa OK - ECPv6.15.20//NONSGML v1.0//EN
CALSCALE:GREGORIAN
METHOD:PUBLISH
X-ORIGINAL-URL:https://forsaok.se
X-WR-CALDESC:Händelser för Forsa OK
REFRESH-INTERVAL;VALUE=DURATION:PT1H
X-Robots-Tag:noindex
X-PUBLISHED-TTL:PT1H
BEGIN:VTIMEZONE
TZID:Europe/Stockholm
BEGIN:DAYLIGHT
TZOFFSETFROM:+0100
TZOFFSETTO:+0200
TZNAME:CEST
DTSTART:20240331T010000
END:DAYLIGHT
BEGIN:STANDARD
TZOFFSETFROM:+0200
TZOFFSETTO:+0100
TZNAME:CET
DTSTART:20241027T010000
END:STANDARD
BEGIN:DAYLIGHT
TZOFFSETFROM:+0100
TZOFFSETTO:+0200
TZNAME:CEST
DTSTART:20250330T010000
END:DAYLIGHT
BEGIN:STANDARD
TZOFFSETFROM:+0200
TZOFFSETTO:+0100
TZNAME:CET
DTSTART:20251026T010000
END:STANDARD
BEGIN:DAYLIGHT
TZOFFSETFROM:+0100
TZOFFSETTO:+0200
TZNAME:CEST
DTSTART:20260329T010000
END:DAYLIGHT
BEGIN:STANDARD
TZOFFSETFROM:+0200
TZOFFSETTO:+0100
TZNAME:CET
DTSTART:20261025T010000
END:STANDARD
END:VTIMEZONE
BEGIN:VEVENT
DTSTART;TZID=Europe/Stockholm:20250911T173000
DTEND;TZID=Europe/Stockholm:20250911T183000
DTSTAMP:20260419T192550
CREATED:20250822T185103Z
LAST-MODIFIED:20250822T190232Z
UID:10001237-1757611800-1757615400@forsaok.se
SUMMARY:Skogsskoj #4
DESCRIPTION:
URL:https://forsaok.se/event/skogsskoj-4-2/
LOCATION:Paintball\, Mastvägen
CATEGORIES:Träningar,Ungdom
GEO:61.69887;16.89584
END:VEVENT
BEGIN:VEVENT
DTSTART;TZID=Europe/Stockholm:20250911T180000
DTEND;TZID=Europe/Stockholm:20250911T190000
DTSTAMP:20260419T192550
CREATED:20250822T185153Z
LAST-MODIFIED:20250901T200257Z
UID:10001238-1757613600-1757617200@forsaok.se
SUMMARY:Ungdomsträning #4
DESCRIPTION:
URL:https://forsaok.se/event/ungdomstraning-4-5/
LOCATION:Paintball\, Mastvägen
CATEGORIES:Träningar,Ungdom
GEO:61.69887;16.89584
END:VEVENT
END:VCALENDAR