BEGIN:VCALENDAR
VERSION:2.0
PRODID:-//Forsa OK - ECPv6.15.20//NONSGML v1.0//EN
CALSCALE:GREGORIAN
METHOD:PUBLISH
X-WR-CALNAME:Forsa OK
X-ORIGINAL-URL:https://forsaok.se
X-WR-CALDESC:Händelser för Forsa OK
REFRESH-INTERVAL;VALUE=DURATION:PT1H
X-Robots-Tag:noindex
X-PUBLISHED-TTL:PT1H
BEGIN:VTIMEZONE
TZID:Europe/Stockholm
BEGIN:DAYLIGHT
TZOFFSETFROM:+0100
TZOFFSETTO:+0200
TZNAME:CEST
DTSTART:20240331T010000
END:DAYLIGHT
BEGIN:STANDARD
TZOFFSETFROM:+0200
TZOFFSETTO:+0100
TZNAME:CET
DTSTART:20241027T010000
END:STANDARD
BEGIN:DAYLIGHT
TZOFFSETFROM:+0100
TZOFFSETTO:+0200
TZNAME:CEST
DTSTART:20250330T010000
END:DAYLIGHT
BEGIN:STANDARD
TZOFFSETFROM:+0200
TZOFFSETTO:+0100
TZNAME:CET
DTSTART:20251026T010000
END:STANDARD
BEGIN:DAYLIGHT
TZOFFSETFROM:+0100
TZOFFSETTO:+0200
TZNAME:CEST
DTSTART:20260329T010000
END:DAYLIGHT
BEGIN:STANDARD
TZOFFSETFROM:+0200
TZOFFSETTO:+0100
TZNAME:CET
DTSTART:20261025T010000
END:STANDARD
END:VTIMEZONE
BEGIN:VEVENT
DTSTART;TZID=Europe/Stockholm:20250828T173000
DTEND;TZID=Europe/Stockholm:20250828T183000
DTSTAMP:20260419T192159
CREATED:20250822T182405Z
LAST-MODIFIED:20250822T182405Z
UID:10001231-1756402200-1756405800@forsaok.se
SUMMARY:Skogsskoj #2
DESCRIPTION:
URL:https://forsaok.se/event/skogsskoj-2-2/
LOCATION:Vattentornet Bybergsberget\, Näsviken
CATEGORIES:Träningar,Ungdom
GEO:61.743912;16.882632
END:VEVENT
BEGIN:VEVENT
DTSTART;TZID=Europe/Stockholm:20250828T180000
DTEND;TZID=Europe/Stockholm:20250828T190000
DTSTAMP:20260419T192159
CREATED:20250822T182441Z
LAST-MODIFIED:20250822T185627Z
UID:10001232-1756404000-1756407600@forsaok.se
SUMMARY:Ungdomsträning #2
DESCRIPTION:Ansvarig: Malin L
URL:https://forsaok.se/event/ungdomstraning-2-4/
LOCATION:Vattentornet Bybergsberget\, Näsviken
CATEGORIES:Träningar,Ungdom
GEO:61.743912;16.882632
END:VEVENT
END:VCALENDAR