BEGIN:VCALENDAR
VERSION:2.0
PRODID:-//Forsa OK - ECPv6.15.20//NONSGML v1.0//EN
CALSCALE:GREGORIAN
METHOD:PUBLISH
X-ORIGINAL-URL:https://forsaok.se
X-WR-CALDESC:Händelser för Forsa OK
REFRESH-INTERVAL;VALUE=DURATION:PT1H
X-Robots-Tag:noindex
X-PUBLISHED-TTL:PT1H
BEGIN:VTIMEZONE
TZID:Europe/Stockholm
BEGIN:DAYLIGHT
TZOFFSETFROM:+0100
TZOFFSETTO:+0200
TZNAME:CEST
DTSTART:20240331T010000
END:DAYLIGHT
BEGIN:STANDARD
TZOFFSETFROM:+0200
TZOFFSETTO:+0100
TZNAME:CET
DTSTART:20241027T010000
END:STANDARD
BEGIN:DAYLIGHT
TZOFFSETFROM:+0100
TZOFFSETTO:+0200
TZNAME:CEST
DTSTART:20250330T010000
END:DAYLIGHT
BEGIN:STANDARD
TZOFFSETFROM:+0200
TZOFFSETTO:+0100
TZNAME:CET
DTSTART:20251026T010000
END:STANDARD
BEGIN:DAYLIGHT
TZOFFSETFROM:+0100
TZOFFSETTO:+0200
TZNAME:CEST
DTSTART:20260329T010000
END:DAYLIGHT
BEGIN:STANDARD
TZOFFSETFROM:+0200
TZOFFSETTO:+0100
TZNAME:CET
DTSTART:20261025T010000
END:STANDARD
END:VTIMEZONE
BEGIN:VEVENT
DTSTART;TZID=Europe/Stockholm:20250522T173000
DTEND;TZID=Europe/Stockholm:20250522T183000
DTSTAMP:20260420T001128
CREATED:20250505T175629Z
LAST-MODIFIED:20250505T175629Z
UID:10001202-1747935000-1747938600@forsaok.se
SUMMARY:Skogsskoj #6
DESCRIPTION:
URL:https://forsaok.se/event/skogsskoj-6/
LOCATION:Grusgropen\, Medskog
CATEGORIES:Träningar,Ungdom
GEO:61.72049;16.99838
END:VEVENT
BEGIN:VEVENT
DTSTART;TZID=Europe/Stockholm:20250522T180000
DTEND;TZID=Europe/Stockholm:20250522T190000
DTSTAMP:20260420T001128
CREATED:20250224T195934Z
LAST-MODIFIED:20250224T195934Z
UID:10001175-1747936800-1747940400@forsaok.se
SUMMARY:Ungdomsträning #6
DESCRIPTION:Ansvarig: Amy
URL:https://forsaok.se/event/ungdomstraning-6-3/
LOCATION:Grusgropen\, Medskog
CATEGORIES:Träningar,Ungdom
GEO:61.72049;16.99838
END:VEVENT
END:VCALENDAR