BEGIN:VCALENDAR
VERSION:2.0
PRODID:-//Forsa OK - ECPv6.15.20//NONSGML v1.0//EN
CALSCALE:GREGORIAN
METHOD:PUBLISH
X-WR-CALNAME:Forsa OK
X-ORIGINAL-URL:https://forsaok.se
X-WR-CALDESC:Händelser för Forsa OK
REFRESH-INTERVAL;VALUE=DURATION:PT1H
X-Robots-Tag:noindex
X-PUBLISHED-TTL:PT1H
BEGIN:VTIMEZONE
TZID:Europe/Stockholm
BEGIN:DAYLIGHT
TZOFFSETFROM:+0100
TZOFFSETTO:+0200
TZNAME:CEST
DTSTART:20240331T010000
END:DAYLIGHT
BEGIN:STANDARD
TZOFFSETFROM:+0200
TZOFFSETTO:+0100
TZNAME:CET
DTSTART:20241027T010000
END:STANDARD
BEGIN:DAYLIGHT
TZOFFSETFROM:+0100
TZOFFSETTO:+0200
TZNAME:CEST
DTSTART:20250330T010000
END:DAYLIGHT
BEGIN:STANDARD
TZOFFSETFROM:+0200
TZOFFSETTO:+0100
TZNAME:CET
DTSTART:20251026T010000
END:STANDARD
BEGIN:DAYLIGHT
TZOFFSETFROM:+0100
TZOFFSETTO:+0200
TZNAME:CEST
DTSTART:20260329T010000
END:DAYLIGHT
BEGIN:STANDARD
TZOFFSETFROM:+0200
TZOFFSETTO:+0100
TZNAME:CET
DTSTART:20261025T010000
END:STANDARD
END:VTIMEZONE
BEGIN:VEVENT
DTSTART;TZID=Europe/Stockholm:20250501T173000
DTEND;TZID=Europe/Stockholm:20250501T183000
DTSTAMP:20260420T000813
CREATED:20250409T193709Z
LAST-MODIFIED:20250409T193709Z
UID:10001192-1746120600-1746124200@forsaok.se
SUMMARY:Skogsskoj #3
DESCRIPTION:
URL:https://forsaok.se/event/skogsskoj-3/
LOCATION:Dopsten\, Nansta
CATEGORIES:Träningar,Ungdom
GEO:61.7218;16.87076
END:VEVENT
BEGIN:VEVENT
DTSTART;TZID=Europe/Stockholm:20250501T180000
DTEND;TZID=Europe/Stockholm:20250501T190000
DTSTAMP:20260420T000813
CREATED:20250224T195654Z
LAST-MODIFIED:20250224T195654Z
UID:10001172-1746122400-1746126000@forsaok.se
SUMMARY:Ungdomsträning #3
DESCRIPTION:Ansvarig: Leif
URL:https://forsaok.se/event/ungdomstraning-3-3/
LOCATION:Dopsten\, Nansta
CATEGORIES:Träningar,Ungdom
GEO:61.7218;16.87076
END:VEVENT
END:VCALENDAR