BEGIN:VCALENDAR
VERSION:2.0
PRODID:-//Forsa OK - ECPv6.15.20//NONSGML v1.0//EN
CALSCALE:GREGORIAN
METHOD:PUBLISH
X-WR-CALNAME:Forsa OK
X-ORIGINAL-URL:https://forsaok.se
X-WR-CALDESC:Händelser för Forsa OK
REFRESH-INTERVAL;VALUE=DURATION:PT1H
X-Robots-Tag:noindex
X-PUBLISHED-TTL:PT1H
BEGIN:VTIMEZONE
TZID:Europe/Stockholm
BEGIN:DAYLIGHT
TZOFFSETFROM:+0100
TZOFFSETTO:+0200
TZNAME:CEST
DTSTART:20240331T010000
END:DAYLIGHT
BEGIN:STANDARD
TZOFFSETFROM:+0200
TZOFFSETTO:+0100
TZNAME:CET
DTSTART:20241027T010000
END:STANDARD
BEGIN:DAYLIGHT
TZOFFSETFROM:+0100
TZOFFSETTO:+0200
TZNAME:CEST
DTSTART:20250330T010000
END:DAYLIGHT
BEGIN:STANDARD
TZOFFSETFROM:+0200
TZOFFSETTO:+0100
TZNAME:CET
DTSTART:20251026T010000
END:STANDARD
BEGIN:DAYLIGHT
TZOFFSETFROM:+0100
TZOFFSETTO:+0200
TZNAME:CEST
DTSTART:20260329T010000
END:DAYLIGHT
BEGIN:STANDARD
TZOFFSETFROM:+0200
TZOFFSETTO:+0100
TZNAME:CET
DTSTART:20261025T010000
END:STANDARD
END:VTIMEZONE
BEGIN:VEVENT
DTSTART;TZID=Europe/Stockholm:20250417T180000
DTEND;TZID=Europe/Stockholm:20250417T190000
DTSTAMP:20260420T031640
CREATED:20250224T195448Z
LAST-MODIFIED:20250224T195448Z
UID:10001171-1744912800-1744916400@forsaok.se
SUMMARY:Ungdomsträning #2
DESCRIPTION:Ansvarig: Malin L\, Amy
URL:https://forsaok.se/event/ungdomstraning-2-3/
LOCATION:Klubbhuset Backa\, Fyhrvägen 6\, Sörforsa
CATEGORIES:Träningar,Ungdom
GEO:61.717637;16.973994
X-APPLE-STRUCTURED-LOCATION;VALUE=URI;X-ADDRESS=Klubbhuset Backa Fyhrvägen 6 Sörforsa;X-APPLE-RADIUS=500;X-TITLE=Fyhrvägen 6:geo:16.973994,61.717637
END:VEVENT
END:VCALENDAR