BEGIN:VCALENDAR
VERSION:2.0
PRODID:-//Forsa OK - ECPv6.15.20//NONSGML v1.0//EN
CALSCALE:GREGORIAN
METHOD:PUBLISH
X-ORIGINAL-URL:https://forsaok.se
X-WR-CALDESC:Händelser för Forsa OK
REFRESH-INTERVAL;VALUE=DURATION:PT1H
X-Robots-Tag:noindex
X-PUBLISHED-TTL:PT1H
BEGIN:VTIMEZONE
TZID:Europe/Stockholm
BEGIN:DAYLIGHT
TZOFFSETFROM:+0100
TZOFFSETTO:+0200
TZNAME:CEST
DTSTART:20240331T010000
END:DAYLIGHT
BEGIN:STANDARD
TZOFFSETFROM:+0200
TZOFFSETTO:+0100
TZNAME:CET
DTSTART:20241027T010000
END:STANDARD
BEGIN:DAYLIGHT
TZOFFSETFROM:+0100
TZOFFSETTO:+0200
TZNAME:CEST
DTSTART:20250330T010000
END:DAYLIGHT
BEGIN:STANDARD
TZOFFSETFROM:+0200
TZOFFSETTO:+0100
TZNAME:CET
DTSTART:20251026T010000
END:STANDARD
BEGIN:DAYLIGHT
TZOFFSETFROM:+0100
TZOFFSETTO:+0200
TZNAME:CEST
DTSTART:20260329T010000
END:DAYLIGHT
BEGIN:STANDARD
TZOFFSETFROM:+0200
TZOFFSETTO:+0100
TZNAME:CET
DTSTART:20261025T010000
END:STANDARD
END:VTIMEZONE
BEGIN:VEVENT
DTSTART;TZID=Europe/Stockholm:20250617T000000
DTEND;TZID=Europe/Stockholm:20250617T230000
DTSTAMP:20260420T065934
CREATED:20250617T205517Z
LAST-MODIFIED:20250617T205517Z
UID:10001161-1750118400-1750201200@forsaok.se
SUMMARY:DM\, sprint\, Medelpad (VK Uvarna)
DESCRIPTION:Länk till Eventor\, Resultat\, Livelox\, Startlista\, Länk till Hemsida 2025-06-17: \nTänk på att det är löparens ansvar att anpassa sig till omgivande trafik och personer. \nPM är publicerat. Notera att avstånd till start är ca 950 m och inte 500 som tidigare angivits \n== \nTouchfreestämpling (SIAC Air) kommer att vara aktiverat. Dock så kommer det inte finnas hyrbrickor av touchfree-variant. \n== \nFör Öppna banor så är det en rättning införd i inbjudan och anmälningsbara klasser. Den som tidigare hette Svart 2.5 km heter nu Blå 2.5 km
URL:https://forsaok.se/event/dm-sprint-medelpad-vk-uvarna/
END:VEVENT
END:VCALENDAR