BEGIN:VCALENDAR
VERSION:2.0
PRODID:-//Forsa OK - ECPv6.15.20//NONSGML v1.0//EN
CALSCALE:GREGORIAN
METHOD:PUBLISH
X-ORIGINAL-URL:https://forsaok.se
X-WR-CALDESC:Händelser för Forsa OK
REFRESH-INTERVAL;VALUE=DURATION:PT1H
X-Robots-Tag:noindex
X-PUBLISHED-TTL:PT1H
BEGIN:VTIMEZONE
TZID:Europe/Stockholm
BEGIN:DAYLIGHT
TZOFFSETFROM:+0100
TZOFFSETTO:+0200
TZNAME:CEST
DTSTART:20240331T010000
END:DAYLIGHT
BEGIN:STANDARD
TZOFFSETFROM:+0200
TZOFFSETTO:+0100
TZNAME:CET
DTSTART:20241027T010000
END:STANDARD
BEGIN:DAYLIGHT
TZOFFSETFROM:+0100
TZOFFSETTO:+0200
TZNAME:CEST
DTSTART:20250330T010000
END:DAYLIGHT
BEGIN:STANDARD
TZOFFSETFROM:+0200
TZOFFSETTO:+0100
TZNAME:CET
DTSTART:20251026T010000
END:STANDARD
BEGIN:DAYLIGHT
TZOFFSETFROM:+0100
TZOFFSETTO:+0200
TZNAME:CEST
DTSTART:20260329T010000
END:DAYLIGHT
BEGIN:STANDARD
TZOFFSETFROM:+0200
TZOFFSETTO:+0100
TZNAME:CET
DTSTART:20261025T010000
END:STANDARD
END:VTIMEZONE
BEGIN:VEVENT
DTSTART;TZID=Europe/Stockholm:20250615T000000
DTEND;TZID=Europe/Stockholm:20250615T210000
DTSTAMP:20260420T044231
CREATED:20250627T205701Z
LAST-MODIFIED:20250627T205701Z
UID:10001216-1749945600-1750021200@forsaok.se
SUMMARY:Sommarträning Svartsundet (Söderhamns OK)
DESCRIPTION:Länk till Eventor\, Länk till Hemsida Träningsbanor lagda på Söderhamnspasset stolpar. Om båda banorna genomförs kommer alla stolparna i området besökas. \nKartor finns här för egen utskrift eller i låda vid klubbstugan.\nAvgift för ej medlemmar i föreningen: Swish 50:- till 123 695 90 92.
URL:https://forsaok.se/event/sommarbanor-svartsundet-soderhamns-ok/
END:VEVENT
BEGIN:VEVENT
DTSTART;TZID=Europe/Stockholm:20250615T000000
DTEND;TZID=Europe/Stockholm:20250615T210000
DTSTAMP:20260420T044231
CREATED:20250727T210210Z
LAST-MODIFIED:20250727T210210Z
UID:10001217-1749945600-1750021200@forsaok.se
SUMMARY:Sommarträning Kyrkbyn (Söderhamns OK)
DESCRIPTION:Länk till Eventor\, Länk till Hemsida Träningsbanor med kontroller markerade med snitslar. Svart svårighetsgrad\, både tekniskt och fysiskt utmanande. \nKartor finns här för egen utskrift eller i låda vid klubbstugan.\nAvgift för ej medlemmar i föreningen: Swish 50:- till 123 695 90 92. \n27/7: Bana 1 har fått reviderad karta med nya hyggen och kontrollerna markerade med röd/vita snitslar.
URL:https://forsaok.se/event/sommartraning-kyrkbyn-soderhamns-ok/
END:VEVENT
END:VCALENDAR