BEGIN:VCALENDAR
VERSION:2.0
PRODID:-//Forsa OK - ECPv6.15.20//NONSGML v1.0//EN
CALSCALE:GREGORIAN
METHOD:PUBLISH
X-WR-CALNAME:Forsa OK
X-ORIGINAL-URL:https://forsaok.se
X-WR-CALDESC:Händelser för Forsa OK
REFRESH-INTERVAL;VALUE=DURATION:PT1H
X-Robots-Tag:noindex
X-PUBLISHED-TTL:PT1H
BEGIN:VTIMEZONE
TZID:Europe/Stockholm
BEGIN:DAYLIGHT
TZOFFSETFROM:+0100
TZOFFSETTO:+0200
TZNAME:CEST
DTSTART:20240331T010000
END:DAYLIGHT
BEGIN:STANDARD
TZOFFSETFROM:+0200
TZOFFSETTO:+0100
TZNAME:CET
DTSTART:20241027T010000
END:STANDARD
BEGIN:DAYLIGHT
TZOFFSETFROM:+0100
TZOFFSETTO:+0200
TZNAME:CEST
DTSTART:20250330T010000
END:DAYLIGHT
BEGIN:STANDARD
TZOFFSETFROM:+0200
TZOFFSETTO:+0100
TZNAME:CET
DTSTART:20251026T010000
END:STANDARD
BEGIN:DAYLIGHT
TZOFFSETFROM:+0100
TZOFFSETTO:+0200
TZNAME:CEST
DTSTART:20260329T010000
END:DAYLIGHT
BEGIN:STANDARD
TZOFFSETFROM:+0200
TZOFFSETTO:+0100
TZNAME:CET
DTSTART:20261025T010000
END:STANDARD
END:VTIMEZONE
BEGIN:VEVENT
DTSTART;TZID=Europe/Stockholm:20250529T110000
DTEND;TZID=Europe/Stockholm:20250529T130000
DTSTAMP:20260420T013558
CREATED:20250531T111503Z
LAST-MODIFIED:20250531T111503Z
UID:10000863-1748516400-1748523600@forsaok.se
SUMMARY:Swedish League\, #5\, sprint (WRE) + Faxeträffen\, dag 1\, sprint (Söderhamns OK)
DESCRIPTION:Länk till Eventor\, Resultat\, Livelox\, Startlista\, Länk till Hemsida Stort tack till alla deltagare\, funktionärer\, sponsorer och publik för ert deltagande i vår tävling. Ni bidrog alla till att det blev ett lyckat arrangemang. Vi hoppas att vi möts på många framtida Faxeträffar! \nEv. kvarglömda saker har skickats vidare till Sundsvalls Swedish League tävlingar om inte något annat bestämts.
URL:https://forsaok.se/event/swedish-league-5-sprint-wre-faxetraffen-dag-1-sprint-soderhamns-ok/
END:VEVENT
END:VCALENDAR