BEGIN:VCALENDAR
VERSION:2.0
PRODID:-//Forsa OK - ECPv6.15.20//NONSGML v1.0//EN
CALSCALE:GREGORIAN
METHOD:PUBLISH
X-WR-CALNAME:Forsa OK
X-ORIGINAL-URL:https://forsaok.se
X-WR-CALDESC:Händelser för Forsa OK
REFRESH-INTERVAL;VALUE=DURATION:PT1H
X-Robots-Tag:noindex
X-PUBLISHED-TTL:PT1H
BEGIN:VTIMEZONE
TZID:Europe/Stockholm
BEGIN:DAYLIGHT
TZOFFSETFROM:+0100
TZOFFSETTO:+0200
TZNAME:CEST
DTSTART:20240331T010000
END:DAYLIGHT
BEGIN:STANDARD
TZOFFSETFROM:+0200
TZOFFSETTO:+0100
TZNAME:CET
DTSTART:20241027T010000
END:STANDARD
BEGIN:DAYLIGHT
TZOFFSETFROM:+0100
TZOFFSETTO:+0200
TZNAME:CEST
DTSTART:20250330T010000
END:DAYLIGHT
BEGIN:STANDARD
TZOFFSETFROM:+0200
TZOFFSETTO:+0100
TZNAME:CET
DTSTART:20251026T010000
END:STANDARD
BEGIN:DAYLIGHT
TZOFFSETFROM:+0100
TZOFFSETTO:+0200
TZNAME:CEST
DTSTART:20260329T010000
END:DAYLIGHT
BEGIN:STANDARD
TZOFFSETFROM:+0200
TZOFFSETTO:+0100
TZNAME:CET
DTSTART:20261025T010000
END:STANDARD
END:VTIMEZONE
BEGIN:VEVENT
DTSTART;TZID=Europe/Stockholm:20250219T193000
DTEND;TZID=Europe/Stockholm:20250219T233000
DTSTAMP:20260419T222737
CREATED:20250310T062545Z
LAST-MODIFIED:20250310T062545Z
UID:10001168-1739993400-1740007800@forsaok.se
SUMMARY:SkidO\, DM\, natt\, Medelpad + MOF SkidO-Cup nr 6 (Medelpads OF)
DESCRIPTION:Länk till Eventor\, Resultat\, Livelox\, Startlista Arena: Ängen\, Södra Berget\nFörsta start kl 19:30 \nNatt-DM ingår i MOF SkidO Cup. \nMOF SkidO Cup är en serie eller cup i Medelpad öppen för alla. Cupen är i första hand till för att skapa fler tillfällen i närområdet att skidorientera – och kanske också locka nya till sporten. \nUnder vintern kommer det vara sju deltävlingar. \n#1\, Torsdag\, 2 januari\, dagtid – https://eventor.orientering.se/Events/Show/52204\n#2\, Fredag\, 3 januari\, dagtid – https://eventor.orientering.se/Events/Show/52206\n#3\, Onsdag\, 8 januari\, kvällstid – https://eventor.orientering.se/Events/Show/52207\n+ DM Medelpad Natt\n#4\, Onsdag\, 22 januari\, kvällstid -https://eventor.orientering.se/Events/Show/52208\n#5\, Onsdag\, 5 februari\, kvällstid -https://eventor.orientering.se/Events/Show/52209\n#6\, Onsdag\, 19 februari\, kvällstid – https://eventor.orientering.se/Events/Show/52209\n#7\, Onsdag\, 12 mars\, kvällstid – https://eventor.orientering.se/Events/Show/52210 \nDessa banor finns:\nLång (ca 6 km)\, med eller utan tid\nMellan (ca 4 km)\, med eller utan tid\nKort (ca 2 km)\, med eller utan tid \nBanlängderna kan variera lite vid de olika deltävlingarna \nVi räknar poäng på varje bana enligt följande poängskala:\n29\, 22\, 17\, 14\, 12\, 10\, 8\, 6\, 5 (alla fullföljande får minst 5 poäng). Fem av sju deltävlingar räknas.\nTotalresultat: Pris till de tre första i varje klass med tidtagning.
URL:https://forsaok.se/event/skido-dm-natt-medelpad-mof-skido-cup-nr-6-medelpads-of/
END:VEVENT
END:VCALENDAR