BEGIN:VCALENDAR
VERSION:2.0
PRODID:-//Forsa OK - ECPv6.15.20//NONSGML v1.0//EN
CALSCALE:GREGORIAN
METHOD:PUBLISH
X-WR-CALNAME:Forsa OK
X-ORIGINAL-URL:https://forsaok.se
X-WR-CALDESC:Händelser för Forsa OK
REFRESH-INTERVAL;VALUE=DURATION:PT1H
X-Robots-Tag:noindex
X-PUBLISHED-TTL:PT1H
BEGIN:VTIMEZONE
TZID:Europe/Stockholm
BEGIN:DAYLIGHT
TZOFFSETFROM:+0100
TZOFFSETTO:+0200
TZNAME:CEST
DTSTART:20230326T010000
END:DAYLIGHT
BEGIN:STANDARD
TZOFFSETFROM:+0200
TZOFFSETTO:+0100
TZNAME:CET
DTSTART:20231029T010000
END:STANDARD
BEGIN:DAYLIGHT
TZOFFSETFROM:+0100
TZOFFSETTO:+0200
TZNAME:CEST
DTSTART:20240331T010000
END:DAYLIGHT
BEGIN:STANDARD
TZOFFSETFROM:+0200
TZOFFSETTO:+0100
TZNAME:CET
DTSTART:20241027T010000
END:STANDARD
BEGIN:DAYLIGHT
TZOFFSETFROM:+0100
TZOFFSETTO:+0200
TZNAME:CEST
DTSTART:20250330T010000
END:DAYLIGHT
BEGIN:STANDARD
TZOFFSETFROM:+0200
TZOFFSETTO:+0100
TZNAME:CET
DTSTART:20251026T010000
END:STANDARD
END:VTIMEZONE
BEGIN:VEVENT
DTSTART;TZID=Europe/Stockholm:20240525T110000
DTEND;TZID=Europe/Stockholm:20240525T130000
DTSTAMP:20260420T074412
CREATED:20240604T130909Z
LAST-MODIFIED:20240604T130909Z
UID:10000461-1716634800-1716642000@forsaok.se
SUMMARY:Faxeträffen\, dag 1\, sprint (Ljusne-Ala OK)
DESCRIPTION:Länk till Eventor\, Resultat\, Livelox\, Startlista Startlista publicerad. Nummerlappar för HD16. \nArenan ligger nära Ljusne station för de som önskar åka kollektivt till tävlingen.
URL:https://forsaok.se/event/faxetraffen-dag-1-sprint-soderhamns-ok/
END:VEVENT
BEGIN:VEVENT
DTSTART;TZID=Europe/Stockholm:20240525T140000
DTEND;TZID=Europe/Stockholm:20240525T140000
DTSTAMP:20260420T074412
CREATED:20240624T130631Z
LAST-MODIFIED:20240624T130631Z
UID:10000462-1716645600-1716645600@forsaok.se
SUMMARY:Faxeträffen\, dag 1\, medel (Ljusne-Ala OK)
DESCRIPTION:Länk till Eventor\, Resultat\, Livelox\, Startlista Fri minutstarttid. Nummerlappar för HD14. Finns vid starten. \nArenan ligger nära Ljusne station för de som vill åka kollektivt till tävlingen.
URL:https://forsaok.se/event/faxetraffen-dag-1-medel-soderhamns-ok/
END:VEVENT
BEGIN:VEVENT
DTSTART;TZID=Europe/Stockholm:20240526T100000
DTEND;TZID=Europe/Stockholm:20240526T130000
DTSTAMP:20260420T074412
CREATED:20240621T010731Z
LAST-MODIFIED:20240621T010731Z
UID:10000463-1716717600-1716728400@forsaok.se
SUMMARY:Faxeträffen\, dag 2\, medel (Ljusne-Ala OK)
DESCRIPTION:Länk till Eventor\, Resultat\, Livelox\, Startlista Efter kontroll av stämplingsenheterna har Ivar Granholm. Sundsvalls OK godkänts i H18.  \nTack till alla deltagare och funktionärer på året Faxeträff. Fyll gärna i deltagarenkäten så vi kan rätta till eventuella brister till nästa år och fortsätta med det som uppskattades i år.
URL:https://forsaok.se/event/faxetraffen-dag-2-medel-soderhamns-ok/
END:VEVENT
END:VCALENDAR