BEGIN:VCALENDAR
VERSION:2.0
PRODID:-//Forsa OK - ECPv6.15.20//NONSGML v1.0//EN
CALSCALE:GREGORIAN
METHOD:PUBLISH
X-WR-CALNAME:Forsa OK
X-ORIGINAL-URL:https://forsaok.se
X-WR-CALDESC:Händelser för Forsa OK
REFRESH-INTERVAL;VALUE=DURATION:PT1H
X-Robots-Tag:noindex
X-PUBLISHED-TTL:PT1H
BEGIN:VTIMEZONE
TZID:Europe/Stockholm
BEGIN:DAYLIGHT
TZOFFSETFROM:+0100
TZOFFSETTO:+0200
TZNAME:CEST
DTSTART:20240331T010000
END:DAYLIGHT
BEGIN:STANDARD
TZOFFSETFROM:+0200
TZOFFSETTO:+0100
TZNAME:CET
DTSTART:20241027T010000
END:STANDARD
BEGIN:DAYLIGHT
TZOFFSETFROM:+0100
TZOFFSETTO:+0200
TZNAME:CEST
DTSTART:20250330T010000
END:DAYLIGHT
BEGIN:STANDARD
TZOFFSETFROM:+0200
TZOFFSETTO:+0100
TZNAME:CET
DTSTART:20251026T010000
END:STANDARD
BEGIN:DAYLIGHT
TZOFFSETFROM:+0100
TZOFFSETTO:+0200
TZNAME:CEST
DTSTART:20260329T010000
END:DAYLIGHT
BEGIN:STANDARD
TZOFFSETFROM:+0200
TZOFFSETTO:+0100
TZNAME:CET
DTSTART:20261025T010000
END:STANDARD
END:VTIMEZONE
BEGIN:VEVENT
DTSTART;TZID=Europe/Stockholm:20250921T000000
DTEND;TZID=Europe/Stockholm:20250921T000000
DTSTAMP:20260419T223433
CREATED:20240417T032043Z
LAST-MODIFIED:20240417T032043Z
UID:10000694-1758412800-1758412800@forsaok.se
SUMMARY:DM\, Medel\, Hälsingland (Ljusdals OK)
DESCRIPTION:
URL:https://forsaok.se/event/dm-medel-halsingland-ljusdals-ok/
END:VEVENT
BEGIN:VEVENT
DTSTART;TZID=Europe/Stockholm:20250921T100000
DTEND;TZID=Europe/Stockholm:20250921T140000
DTSTAMP:20260419T223433
CREATED:20250921T211319Z
LAST-MODIFIED:20250921T211319Z
UID:10000693-1758448800-1758463200@forsaok.se
SUMMARY:DM\, sprint\, Hälsingland (Ljusdals OK)
DESCRIPTION:Länk till Eventor\, Resultat\, Livelox\, Startlista\, Länk till Hemsida 
URL:https://forsaok.se/event/dm-sprint-halsingland-ljusdals-ok/
END:VEVENT
BEGIN:VEVENT
DTSTART;TZID=Europe/Stockholm:20250921T150000
DTEND;TZID=Europe/Stockholm:20250921T190000
DTSTAMP:20260419T223433
CREATED:20250921T211319Z
LAST-MODIFIED:20250921T211319Z
UID:10000698-1758466800-1758481200@forsaok.se
SUMMARY:DM\, medel\, Hälsingland (Ljusdals OK)
DESCRIPTION:Länk till Eventor\, Resultat\, Livelox\, Startlista 
URL:https://forsaok.se/event/dm-medel-halsingland-ljusdals-ok-2/
END:VEVENT
END:VCALENDAR