BEGIN:VCALENDAR
VERSION:2.0
PRODID:-//Forsa OK - ECPv6.15.20//NONSGML v1.0//EN
CALSCALE:GREGORIAN
METHOD:PUBLISH
X-WR-CALNAME:Forsa OK
X-ORIGINAL-URL:https://forsaok.se
X-WR-CALDESC:Händelser för Forsa OK
REFRESH-INTERVAL;VALUE=DURATION:PT1H
X-Robots-Tag:noindex
X-PUBLISHED-TTL:PT1H
BEGIN:VTIMEZONE
TZID:Europe/Stockholm
BEGIN:DAYLIGHT
TZOFFSETFROM:+0100
TZOFFSETTO:+0200
TZNAME:CEST
DTSTART:20230326T010000
END:DAYLIGHT
BEGIN:STANDARD
TZOFFSETFROM:+0200
TZOFFSETTO:+0100
TZNAME:CET
DTSTART:20231029T010000
END:STANDARD
BEGIN:DAYLIGHT
TZOFFSETFROM:+0100
TZOFFSETTO:+0200
TZNAME:CEST
DTSTART:20240331T010000
END:DAYLIGHT
BEGIN:STANDARD
TZOFFSETFROM:+0200
TZOFFSETTO:+0100
TZNAME:CET
DTSTART:20241027T010000
END:STANDARD
BEGIN:DAYLIGHT
TZOFFSETFROM:+0100
TZOFFSETTO:+0200
TZNAME:CEST
DTSTART:20250330T010000
END:DAYLIGHT
BEGIN:STANDARD
TZOFFSETFROM:+0200
TZOFFSETTO:+0100
TZNAME:CET
DTSTART:20251026T010000
END:STANDARD
END:VTIMEZONE
BEGIN:VEVENT
DTSTART;TZID=Europe/Stockholm:20240715T000000
DTEND;TZID=Europe/Stockholm:20240715T210000
DTSTAMP:20260420T191054
CREATED:20240715T010725Z
LAST-MODIFIED:20240715T010725Z
UID:10000730-1721001600-1721077200@forsaok.se
SUMMARY:Veckans bana V29 (Forsa OK)
DESCRIPTION:Länk till Eventor\, Livelox Banorna hänger ute måndag 15/7 till söndag 21/7.\nLång 8 km\, medel 5 km och kort 3 km.\nOBS kontrollerna är endast markerade med vit snitsel. \nGemensam träning på banorna tisdag 16/7 kl.18.
URL:https://forsaok.se/event/veckans-bana-v29-forsa-ok-2/
END:VEVENT
END:VCALENDAR